Workbook

Sheet คำนวณเอง
A1: คุณต้องการฝากเงินเดือนละ | C1: 1000 | D1: บาท
A2: อัตราดอกเบี้ยร้อยละ | C2: 3.5 | E2: =C2/100 -> 0.035 | F2: แก้ไขค่าในแถบสีนี้
A3: เดือนที่ | B3: ฝากต่อเดือน | C3: ดอกเบี้ย/เดือน | D3: ดอกเบี้ย+เงินต้น | E3: =E2 -> 0.035
A4: 1 | B4: =C1 -> 1000 | C4: =B4*E4*(12-A4+1)/12 -> 35 | E4: =E3 -> 0.035
A5: 2 | B5: =C1 -> 1000 | C5: =B5*E5*(12-A5+1)/12 -> 32.083333 | E5: =E4 -> 0.035
A6: 3 | B6: =C1 -> 1000 | C6: =B6*E6*(12-A6+1)/12 -> 29.166667 | E6: =E5 -> 0.035
A7: 4 | B7: =C1 -> 1000 | C7: =B7*E7*(12-A7+1)/12 -> 26.25 | E7: =E6 -> 0.035
A8: 5 | B8: =C1 -> 1000 | C8: =B8*E8*(12-A8+1)/12 -> 23.333333 | E8: =E7 -> 0.035
A9: 6 | B9: =C1 -> 1000 | C9: =B9*E9*(12-A9+1)/12 -> 20.416667 | E9: =E8 -> 0.035
A10: 7 | B10: =C1 -> 1000 | C10: =B10*E10*(12-A10+1)/12 -> 17.5 | E10: =E9 -> 0.035
A11: 8 | B11: =C1 -> 1000 | C11: =B11*E11*(12-A11+1)/12 -> 14.583333 | E11: =E10 -> 0.035
A12: 9 | B12: =C1 -> 1000 | C12: =B12*E12*(12-A12+1)/12 -> 11.666667 | E12: =E11 -> 0.035
A13: 10 | B13: =C1 -> 1000 | C13: =B13*E13*(12-A13+1)/12 -> 8.75 | E13: =E12 -> 0.035
A14: 11 | B14: =C1 -> 1000 | C14: =B14*E14*(12-A14+1)/12 -> 5.8333333 | E14: =E13 -> 0.035
A15: 12 | B15: =C1 -> 1000 | C15: =B15*E15*(12-A15+1)/12 -> 2.9166667 | E15: =E14 -> 0.035
A16: ปีที่ 1 | B16: =SUM(B4:B15) -> 12000 | C16: =SUM(C4:C15) -> 227.5 | D16: =B16+C16 -> 12227.5 | E16: =E15 -> 0.035
A17: ยอดยกมา | B17: =D16 -> 12227.5 | C17: =B17*E17 -> 427.9625 | E17: =E16 -> 0.035
A18: 1 | B18: =C1 -> 1000 | C18: =B18*0.05*(12-A18+1)/12 -> 50 | E18: =E17 -> 0.035
A19: 2 | B19: =C1 -> 1000 | C19: =B19*0.05*(12-A19+1)/12 -> 45.833333 | E19: =E18 -> 0.035
A20: 3 | B20: =C1 -> 1000 | C20: =B20*0.05*(12-A20+1)/12 -> 41.666667 | E20: =E19 -> 0.035
A21: 4 | B21: =C1 -> 1000 | C21: =B21*0.05*(12-A21+1)/12 -> 37.5 | E21: =E20 -> 0.035
A22: 5 | B22: =C1 -> 1000 | C22: =B22*0.05*(12-A22+1)/12 -> 33.333333 | E22: =E21 -> 0.035
A23: 6 | B23: =C1 -> 1000 | C23: =B23*0.05*(12-A23+1)/12 -> 29.166667 | E23: =E22 -> 0.035
A24: 7 | B24: =C1 -> 1000 | C24: =B24*0.05*(12-A24+1)/12 -> 25 | E24: =E23 -> 0.035
A25: 8 | B25: =C1 -> 1000 | C25: =B25*0.05*(12-A25+1)/12 -> 20.833333 | E25: =E24 -> 0.035
A26: 9 | B26: =C1 -> 1000 | C26: =B26*0.05*(12-A26+1)/12 -> 16.666667 | E26: =E25 -> 0.035
A27: 10 | B27: =C1 -> 1000 | C27: =B27*0.05*(12-A27+1)/12 -> 12.5 | E27: =E26 -> 0.035
A28: 11 | B28: =C1 -> 1000 | C28: =B28*0.05*(12-A28+1)/12 -> 8.3333333 | E28: =E27 -> 0.035
A29: 12 | B29: =C1 -> 1000 | C29: =B29*0.05*(12-A29+1)/12 -> 4.1666667 | E29: =E28 -> 0.035
A30: ปีที่ 2 | B30: =SUM(B17:B29) -> 24227.5 | C30: =SUM(C17:C29) -> 752.9625 | D30: =B30+C30 -> 24980.463 | E30: =E29 -> 0.035
A31: ยอดยกมา | B31: =D30 -> 24980.463 | C31: =B31*E31 -> 874.31619 | E31: =E30 -> 0.035
A32: 1 | B32: =C1 -> 1000 | C32: =B32*0.05*(12-A32+1)/12 -> 50 | E32: =E31 -> 0.035
A33: 2 | B33: =C1 -> 1000 | C33: =B33*0.05*(12-A33+1)/12 -> 45.833333 | E33: =E32 -> 0.035
A34: 3 | B34: =C1 -> 1000 | C34: =B34*0.05*(12-A34+1)/12 -> 41.666667 | E34: =E33 -> 0.035
A35: 4 | B35: =C1 -> 1000 | C35: =B35*0.05*(12-A35+1)/12 -> 37.5 | E35: =E34 -> 0.035
A36: 5 | B36: =C1 -> 1000 | C36: =B36*0.05*(12-A36+1)/12 -> 33.333333 | E36: =E35 -> 0.035
A37: 6 | B37: =C1 -> 1000 | C37: =B37*0.05*(12-A37+1)/12 -> 29.166667 | E37: =E36 -> 0.035
A38: 7 | B38: =C1 -> 1000 | C38: =B38*0.05*(12-A38+1)/12 -> 25 | E38: =E37 -> 0.035
A39: 8 | B39: =C1 -> 1000 | C39: =B39*0.05*(12-A39+1)/12 -> 20.833333 | E39: =E38 -> 0.035
A40: 9 | B40: =C1 -> 1000 | C40: =B40*0.05*(12-A40+1)/12 -> 16.666667 | E40: =E39 -> 0.035
...

Sheet Sheet3
A1: กรณีฝากเงินเท่ากันเดือนละ | C1: =คำนวณเอง!C1 -> 1000 | D1: บาท จะได้ผลดังนี้
B2: เงินฝาก | C2: ดอกเบี้ย/เดือน | D2: ดอกเบี้ย+เงินต้น
A3: ปีที่ 1 | B3: =คำนวณเอง!B16 -> 12000 | C3: =คำนวณเอง!C16 -> 227.5 | D3: =คำนวณเอง!D16 -> 12227.5
A4: ปีที่ 5 | B4: =คำนวณเอง!B72 -> 63841.071 | C4: =คำนวณเอง!C72 -> 2139.4375 | D4: =คำนวณเอง!D72 -> 65980.508
A5: ปีที่ 10 | B5: =คำนวณเอง!B142 -> 139663.32 | C5: =คำนวณเอง!C142 -> 4793.2163 | D5: =คำนวณเอง!D142 -> 144456.54
A6: ปีที่ 15 | B6: =คำนวณเอง!B212 -> 229716.37 | C6: =คำนวณเอง!C212 -> 7945.073 | D6: =คำนวณเอง!D212 -> 237661.44
A7: ปีที่ 20 | B7: =คำนวณเอง!B282 -> 354001.26 | C7: =คำนวณเอง!C282 -> 17425.063 | D7: =คำนวณเอง!D282 -> 371426.32
A8: ปีที่ 25 | B8: =คำนวณเอง!B352 -> 516593.31 | C8: =คำนวณเอง!C352 -> 25554.665 | D8: =คำนวณเอง!D352 -> 542147.97
A9: ปีที่ 30 | B9: =คำนวณเอง!B422 -> 724106.54 | C9: =คำนวณเอง!C422 -> 35930.327 | D9: =คำนวณเอง!D422 -> 760036.87
