Workbook

Sheet คำนวณเอง
A1: คุณต้องการฝากเงินเดือนละ | C1: 1000 | D1: บาท
A2: อัตราดอกเบี้ยร้อยละ | C2: 3.5 | E2: =C2/100 -> 0.035 | F2: แก้ไขค่าในแถบสีนี้
A3: เดือนที่ | B3: ฝากต่อเดือน | C3: ดอกเบี้ย/เดือน | D3: ดอกเบี้ย+เงินต้น | E3: =E2 -> 0.035
A4: 1 | B4: =C1 -> 1000 | C4: =B4*E4*(12-A4+1)/12 -> 35 | E4: =E3 -> 0.035
A5: 2 | B5: =C1 -> 1000 | C5: =B5*E5*(12-A5+1)/12 -> 32.083333 | E5: =E4 -> 0.035
A6: 3 | B6: =C1 -> 1000 | C6: =B6*E6*(12-A6+1)/12 -> 29.166667 | E6: =E5 -> 0.035
A7: 4 | B7: =C1 -> 1000 | C7: =B7*E7*(12-A7+1)/12 -> 26.25 | E7: =E6 -> 0.035
A8: 5 | B8: =C1 -> 1000 | C8: =B8*E8*(12-A8+1)/12 -> 23.333333 | E8: =E7 -> 0.035
A9: 6 | B9: =C1 -> 1000 | C9: =B9*E9*(12-A9+1)/12 -> 20.416667 | E9: =E8 -> 0.035
A10: 7 | B10: =C1 -> 1000 | C10: =B10*E10*(12-A10+1)/12 -> 17.5 | E10: =E9 -> 0.035
A11: 8 | B11: =C1 -> 1000 | C11: =B11*E11*(12-A11+1)/12 -> 14.583333 | E11: =E10 -> 0.035
A12: 9 | B12: =C1 -> 1000 | C12: =B12*E12*(12-A12+1)/12 -> 11.666667 | E12: =E11 -> 0.035
A13: 10 | B13: =C1 -> 1000 | C13: =B13*E13*(12-A13+1)/12 -> 8.75 | E13: =E12 -> 0.035
A14: 11 | B14: =C1 -> 1000 | C14: =B14*E14*(12-A14+1)/12 -> 5.8333333 | E14: =E13 -> 0.035
A15: 12 | B15: =C1 -> 1000 | C15: =B15*E15*(12-A15+1)/12 -> 2.9166667 | E15: =E14 -> 0.035
A16: ปีที่ 1 | B16: =SUM(B4:B15) -> 12000 | C16: =SUM(C4:C15) -> 227.5 | D16: =B16+C16 -> 12227.5 | E16: =E15 -> 0.035
A17: ยอดยกมา | B17: =D16 -> 12227.5 | C17: =B17*E17 -> 427.9625 | E17: =E16 -> 0.035
A18: 1 | B18: =C1 -> 1000 | C18: =B18*0.05*(12-A18+1)/12 -> 50 | E18: =E17 -> 0.035
A19: 2 | B19: =C1 -> 1000 | C19: =B19*0.05*(12-A19+1)/12 -> 45.833333 | E19: =E18 -> 0.035
A20: 3 | B20: =C1 -> 1000 | C20: =B20*0.05*(12-A20+1)/12 -> 41.666667 | E20: =E19 -> 0.035
A21: 4 | B21: =C1 -> 1000 | C21: =B21*0.05*(12-A21+1)/12 -> 37.5 | E21: =E20 -> 0.035
A22: 5 | B22: =C1 -> 1000 | C22: =B22*0.05*(12-A22+1)/12 -> 33.333333 | E22: =E21 -> 0.035
A23: 6 | B23: =C1 -> 1000 | C23: =B23*0.05*(12-A23+1)/12 -> 29.166667 | E23: =E22 -> 0.035
A24: 7 | B24: =C1 -> 1000 | C24: =B24*0.05*(12-A24+1)/12 -> 25 | E24: =E23 -> 0.035
A25: 8 | B25: =C1 -> 1000 | C25: =B25*0.05*(12-A25+1)/12 -> 20.833333 | E25: =E24 -> 0.035
A26: 9 | B26: =C1 -> 1000 | C26: =B26*0.05*(12-A26+1)/12 -> 16.666667 | E26: =E25 -> 0.035
A27: 10 | B27: =C1 -> 1000 | C27: =B27*0.05*(12-A27+1)/12 -> 12.5 | E27: =E26 -> 0.035
A28: 11 | B28: =C1 -> 1000 | C28: =B28*0.05*(12-A28+1)/12 -> 8.3333333 | E28: =E27 -> 0.035
A29: 12 | B29: =C1 -> 1000 | C29: =B29*0.05*(12-A29+1)/12 -> 4.1666667 | E29: =E28 -> 0.035
A30: ปีที่ 2 | B30: =SUM(B17:B29) -> 24227.5 | C30: =SUM(C17:C29) -> 752.9625 | D30: =B30+C30 -> 24980.463 | E30: =E29 -> 0.035
A31: ยอดยกมา | B31: =D30 -> 24980.463 | C31: =B31*E31 -> 874.31619 | E31: =E30 -> 0.035
A32: 1 | B32: =C1 -> 1000 | C32: =B32*0.05*(12-A32+1)/12 -> 50 | E32: =E31 -> 0.035
A33: 2 | B33: =C1 -> 1000 | C33: =B33*0.05*(12-A33+1)/12 -> 45.833333 | E33: =E32 -> 0.035
A34: 3 | B34: =C1 -> 1000 | C34: =B34*0.05*(12-A34+1)/12 -> 41.666667 | E34: =E33 -> 0.035
A35: 4 | B35: =C1 -> 1000 | C35: =B35*0.05*(12-A35+1)/12 -> 37.5 | E35: =E34 -> 0.035
A36: 5 | B36: =C1 -> 1000 | C36: =B36*0.05*(12-A36+1)/12 -> 33.333333 | E36: =E35 -> 0.035
A37: 6 | B37: =C1 -> 1000 | C37: =B37*0.05*(12-A37+1)/12 -> 29.166667 | E37: =E36 -> 0.035
A38: 7 | B38: =C1 -> 1000 | C38: =B38*0.05*(12-A38+1)/12 -> 25 | E38: =E37 -> 0.035
A39: 8 | B39: =C1 -> 1000 | C39: =B39*0.05*(12-A39+1)/12 -> 20.833333 | E39: =E38 -> 0.035
A40: 9 | B40: =C1 -> 1000 | C40: =B40*0.05*(12-A40+1)/12 -> 16.666667 | E40: =E39 -> 0.035
A41: 10 | B41: =C1 -> 1000 | C41: =B41*0.05*(12-A41+1)/12 -> 12.5 | E41: =E40 -> 0.035
A42: 11 | B42: =C1 -> 1000 | C42: =B42*0.05*(12-A42+1)/12 -> 8.3333333 | E42: =E41 -> 0.035
A43: 12 | B43: =C1 -> 1000 | C43: =B43*0.05*(12-A43+1)/12 -> 4.1666667 | E43: =E42 -> 0.035
A44: ปีที่ 3 | B44: =SUM(B31:B43) -> 36980.463 | C44: =SUM(C31:C43) -> 1199.3162 | D44: =B44+C44 -> 38179.779 | E44: =E43 -> 0.035
A45: ยอดยกมา | B45: =D44 -> 38179.779 | C45: =B45*E45 -> 1336.2923 | E45: =E44 -> 0.035
A46: 1 | B46: =C1 -> 1000 | C46: =B46*0.05*(12-A46+1)/12 -> 50 | E46: =E45 -> 0.035
A47: 2 | B47: =C1 -> 1000 | C47: =B47*0.05*(12-A47+1)/12 -> 45.833333 | E47: =E46 -> 0.035
A48: 3 | B48: =C1 -> 1000 | C48: =B48*0.05*(12-A48+1)/12 -> 41.666667 | E48: =E47 -> 0.035
A49: 4 | B49: =C1 -> 1000 | C49: =B49*0.05*(12-A49+1)/12 -> 37.5 | E49: =E48 -> 0.035
A50: 5 | B50: =C1 -> 1000 | C50: =B50*0.05*(12-A50+1)/12 -> 33.333333 | E50: =E49 -> 0.035
A51: 6 | B51: =C1 -> 1000 | C51: =B51*0.05*(12-A51+1)/12 -> 29.166667 | E51: =E50 -> 0.035
A52: 7 | B52: =C1 -> 1000 | C52: =B52*0.05*(12-A52+1)/12 -> 25 | E52: =E51 -> 0.035
A53: 8 | B53: =C1 -> 1000 | C53: =B53*0.05*(12-A53+1)/12 -> 20.833333 | E53: =E52 -> 0.035
A54: 9 | B54: =C1 -> 1000 | C54: =B54*0.05*(12-A54+1)/12 -> 16.666667 | E54: =E53 -> 0.035
A55: 10 | B55: =C1 -> 1000 | C55: =B55*0.05*(12-A55+1)/12 -> 12.5 | E55: =E54 -> 0.035
A56: 11 | B56: =C1 -> 1000 | C56: =B56*0.05*(12-A56+1)/12 -> 8.3333333 | E56: =E55 -> 0.035
A57: 12 | B57: =C1 -> 1000 | C57: =B57*0.05*(12-A57+1)/12 -> 4.1666667 | E57: =E56 -> 0.035
A58: ปีที่ 4 | B58: =SUM(B45:B57) -> 50179.779 | C58: =SUM(C45:C57) -> 1661.2923 | D58: =B58+C58 -> 51841.071 | E58: =E57 -> 0.035
A59: ยอดยกมา | B59: =D58 -> 51841.071 | C59: =B59*E59 -> 1814.4375 | E59: =E58 -> 0.035
A60: 1 | B60: =C1 -> 1000 | C60: =B60*0.05*(12-A60+1)/12 -> 50 | E60: =E59 -> 0.035
A61: 2 | B61: =C1 -> 1000 | C61: =B61*0.05*(12-A61+1)/12 -> 45.833333 | E61: =E60 -> 0.035
A62: 3 | B62: =C1 -> 1000 | C62: =B62*0.05*(12-A62+1)/12 -> 41.666667 | E62: =E61 -> 0.035
A63: 4 | B63: =C1 -> 1000 | C63: =B63*0.05*(12-A63+1)/12 -> 37.5 | E63: =E62 -> 0.035
A64: 5 | B64: =C1 -> 1000 | C64: =B64*0.05*(12-A64+1)/12 -> 33.333333 | E64: =E63 -> 0.035
A65: 6 | B65: =C1 -> 1000 | C65: =B65*0.05*(12-A65+1)/12 -> 29.166667 | E65: =E64 -> 0.035
A66: 7 | B66: =C1 -> 1000 | C66: =B66*0.05*(12-A66+1)/12 -> 25 | E66: =E65 -> 0.035
A67: 8 | B67: =C1 -> 1000 | C67: =B67*0.05*(12-A67+1)/12 -> 20.833333 | E67: =E66 -> 0.035
A68: 9 | B68: =C1 -> 1000 | C68: =B68*0.05*(12-A68+1)/12 -> 16.666667 | E68: =E67 -> 0.035
A69: 10 | B69: =C1 -> 1000 | C69: =B69*0.05*(12-A69+1)/12 -> 12.5 | E69: =E68 -> 0.035
A70: 11 | B70: =C1 -> 1000 | C70: =B70*0.05*(12-A70+1)/12 -> 8.3333333 | E70: =E69 -> 0.035
A71: 12 | B71: =C1 -> 1000 | C71: =B71*0.05*(12-A71+1)/12 -> 4.1666667 | E71: =E70 -> 0.035
A72: ปีที่ 5 | B72: =SUM(B59:B71) -> 63841.071 | C72: =SUM(C59:C71) -> 2139.4375 | D72: =B72+C72 -> 65980.508 | E72: =E71 -> 0.035
A73: ยอดยกมา | B73: =D72 -> 65980.508 | C73: =B73*E73 -> 2309.3178 | E73: =E72 -> 0.035
A74: 1 | B74: =C1 -> 1000 | C74: =B74*0.05*(12-A74+1)/12 -> 50 | E74: =E73 -> 0.035
A75: 2 | B75: =C1 -> 1000 | C75: =B75*0.05*(12-A75+1)/12 -> 45.833333 | E75: =E74 -> 0.035
A76: 3 | B76: =C1 -> 1000 | C76: =B76*0.05*(12-A76+1)/12 -> 41.666667 | E76: =E75 -> 0.035
A77: 4 | B77: =C1 -> 1000 | C77: =B77*0.05*(12-A77+1)/12 -> 37.5 | E77: =E76 -> 0.035
A78: 5 | B78: =C1 -> 1000 | C78: =B78*0.05*(12-A78+1)/12 -> 33.333333 | E78: =E77 -> 0.035
A79: 6 | B79: =C1 -> 1000 | C79: =B79*0.05*(12-A79+1)/12 -> 29.166667 | E79: =E78 -> 0.035
A80: 7 | B80: =C1 -> 1000 | C80: =B80*0.05*(12-A80+1)/12 -> 25 | E80: =E79 -> 0.035
A81: 8 | B81: =C1 -> 1000 | C81: =B81*0.05*(12-A81+1)/12 -> 20.833333 | E81: =E80 -> 0.035
A82: 9 | B82: =C1 -> 1000 | C82: =B82*0.05*(12-A82+1)/12 -> 16.666667 | E82: =E81 -> 0.035
A83: 10 | B83: =C1 -> 1000 | C83: =B83*0.05*(12-A83+1)/12 -> 12.5 | E83: =E82 -> 0.035
A84: 11 | B84: =C1 -> 1000 | C84: =B84*0.05*(12-A84+1)/12 -> 8.3333333 | E84: =E83 -> 0.035
A85: 12 | B85: =C1 -> 1000 | C85: =B85*0.05*(12-A85+1)/12 -> 4.1666667 | E85: =E84 -> 0.035
A86: ปีที่ 6 | B86: =SUM(B73:B85) -> 77980.508 | C86: =SUM(C73:C85) -> 2634.3178 | D86: =B86+C86 -> 80614.826 | E86: =E85 -> 0.035
A87: ยอดยกมา | B87: =D86 -> 80614.826 | C87: =B87*E87 -> 2821.5189 | E87: =E86 -> 0.035
A88: 1 | B88: =C1 -> 1000 | C88: =B88*0.05*(12-A88+1)/12 -> 50 | E88: =E87 -> 0.035
A89: 2 | B89: =C1 -> 1000 | C89: =B89*0.05*(12-A89+1)/12 -> 45.833333 | E89: =E88 -> 0.035
A90: 3 | B90: =C1 -> 1000 | C90: =B90*0.05*(12-A90+1)/12 -> 41.666667 | E90: =E89 -> 0.035
A91: 4 | B91: =C1 -> 1000 | C91: =B91*0.05*(12-A91+1)/12 -> 37.5 | E91: =E90 -> 0.035
A92: 5 | B92: =C1 -> 1000 | C92: =B92*0.05*(12-A92+1)/12 -> 33.333333 | E92: =E91 -> 0.035
A93: 6 | B93: =C1 -> 1000 | C93: =B93*0.05*(12-A93+1)/12 -> 29.166667 | E93: =E92 -> 0.035
A94: 7 | B94: =C1 -> 1000 | C94: =B94*0.05*(12-A94+1)/12 -> 25 | E94: =E93 -> 0.035
A95: 8 | B95: =C1 -> 1000 | C95: =B95*0.05*(12-A95+1)/12 -> 20.833333 | E95: =E94 -> 0.035
A96: 9 | B96: =C1 -> 1000 | C96: =B96*0.05*(12-A96+1)/12 -> 16.666667 | E96: =E95 -> 0.035
A97: 10 | B97: =C1 -> 1000 | C97: =B97*0.05*(12-A97+1)/12 -> 12.5 | E97: =E96 -> 0.035
A98: 11 | B98: =C1 -> 1000 | C98: =B98*0.05*(12-A98+1)/12 -> 8.3333333 | E98: =E97 -> 0.035
A99: 12 | B99: =C1 -> 1000 | C99: =B99*0.05*(12-A99+1)/12 -> 4.1666667 | E99: =E98 -> 0.035
A100: ปีที่ 7 | B100: =SUM(B87:B99) -> 92614.826 | C100: =SUM(C87:C99) -> 3146.5189 | D100: =B100+C100 -> 95761.345 | E100: =E99 -> 0.035
...

Sheet Sheet3
A1: กรณีฝากเงินเท่ากันเดือนละ | C1: =คำนวณเอง!C1 -> 1000 | D1: บาท จะได้ผลดังนี้
B2: เงินฝาก | C2: ดอกเบี้ย/เดือน | D2: ดอกเบี้ย+เงินต้น
A3: ปีที่ 1 | B3: =คำนวณเอง!B16 -> 12000 | C3: =คำนวณเอง!C16 -> 227.5 | D3: =คำนวณเอง!D16 -> 12227.5
A4: ปีที่ 5 | B4: =คำนวณเอง!B72 -> 63841.071 | C4: =คำนวณเอง!C72 -> 2139.4375 | D4: =คำนวณเอง!D72 -> 65980.508
A5: ปีที่ 10 | B5: =คำนวณเอง!B142 -> 139663.32 | C5: =คำนวณเอง!C142 -> 4793.2163 | D5: =คำนวณเอง!D142 -> 144456.54
A6: ปีที่ 15 | B6: =คำนวณเอง!B212 -> 229716.37 | C6: =คำนวณเอง!C212 -> 7945.073 | D6: =คำนวณเอง!D212 -> 237661.44
A7: ปีที่ 20 | B7: =คำนวณเอง!B282 -> 354001.26 | C7: =คำนวณเอง!C282 -> 17425.063 | D7: =คำนวณเอง!D282 -> 371426.32
A8: ปีที่ 25 | B8: =คำนวณเอง!B352 -> 516593.31 | C8: =คำนวณเอง!C352 -> 25554.665 | D8: =คำนวณเอง!D352 -> 542147.97
A9: ปีที่ 30 | B9: =คำนวณเอง!B422 -> 724106.54 | C9: =คำนวณเอง!C422 -> 35930.327 | D9: =คำนวณเอง!D422 -> 760036.87
